BEGIN:VCALENDAR
VERSION:2.0
PRODID:-//Golfclub Schloss Mainsondheim e. V. - ECPv6.0.6.2//NONSGML v1.0//EN
CALSCALE:GREGORIAN
METHOD:PUBLISH
X-WR-CALNAME:Golfclub Schloss Mainsondheim e. V.
X-ORIGINAL-URL:https://golf-mainsondheim.de
X-WR-CALDESC:Veranstaltungen für Golfclub Schloss Mainsondheim e. V.
REFRESH-INTERVAL;VALUE=DURATION:PT1H
X-Robots-Tag:noindex
X-PUBLISHED-TTL:PT1H
BEGIN:VTIMEZONE
TZID:Europe/Berlin
BEGIN:DAYLIGHT
TZOFFSETFROM:+0100
TZOFFSETTO:+0200
TZNAME:CEST
DTSTART:20180325T010000
END:DAYLIGHT
BEGIN:STANDARD
TZOFFSETFROM:+0200
TZOFFSETTO:+0100
TZNAME:CET
DTSTART:20181028T010000
END:STANDARD
END:VTIMEZONE
BEGIN:VEVENT
DTSTART;TZID=Europe/Berlin:20180707T110000
DTEND;TZID=Europe/Berlin:20180707T160000
DTSTAMP:20260422T184424
CREATED:20190316T153116Z
LAST-MODIFIED:20190316T153116Z
UID:3121-1530961200-1530979200@golf-mainsondheim.de
SUMMARY:Frankencup der Damen\, Mannschaft
DESCRIPTION:Turnierart:\nEinzel – Stableford; 18 Löcher\n\n\nGolfplatz:\nMainsondheim 1-18 (2016)\n\n\nAnzahl Runden:\n1\n\n\nBeginn:\n11:00\n\n\nVorgabenwirksam:\nja\n\n\nOffen für:\nDamen\n\n\nGäste erlaubt:\nnein\n\n\nAltersklasse:\nAlle\n\n\nKontakt:\ninfo@golf-mainsondheim.de\n\n\nTeilnehmer maximal:\n0
URL:https://golf-mainsondheim.de/event/frankencup-der-damen-mannschaft/
LOCATION:Golfclub Schloß Mainsondheim\, Schloßweg 3\, Mainsondheim-Dettelbach\, Bayern\, 97337\, Deutschland
END:VEVENT
END:VCALENDAR