BEGIN:VCALENDAR
VERSION:2.0
PRODID:-//Golfclub Schloss Mainsondheim e. V. - ECPv6.0.6.2//NONSGML v1.0//EN
CALSCALE:GREGORIAN
METHOD:PUBLISH
X-ORIGINAL-URL:https://golf-mainsondheim.de
X-WR-CALDESC:Veranstaltungen für Golfclub Schloss Mainsondheim e. V.
REFRESH-INTERVAL;VALUE=DURATION:PT1H
X-Robots-Tag:noindex
X-PUBLISHED-TTL:PT1H
BEGIN:VTIMEZONE
TZID:Europe/Berlin
BEGIN:DAYLIGHT
TZOFFSETFROM:+0100
TZOFFSETTO:+0200
TZNAME:CEST
DTSTART:20180325T010000
END:DAYLIGHT
BEGIN:STANDARD
TZOFFSETFROM:+0200
TZOFFSETTO:+0100
TZNAME:CET
DTSTART:20181028T010000
END:STANDARD
END:VTIMEZONE
BEGIN:VEVENT
DTSTART;TZID=Europe/Berlin:20180826T080000
DTEND;TZID=Europe/Berlin:20180826T130000
DTSTAMP:20260422T154242
CREATED:20190316T153133Z
LAST-MODIFIED:20190316T153133Z
UID:3106-1535270400-1535288400@golf-mainsondheim.de
SUMMARY:4. Golden Leaf Turnier\, offen\, Zählspiel
DESCRIPTION:Turnierart:\nEinzel – Stableford; 18 Löcher\n\n\nGolfplatz:\nMainsondheim 1-18 (2016)\n\n\nAnzahl Runden:\n1\n\n\nBeginn:\n08:00\n\n\nVorgabenwirksam:\nja\n\n\nOffen für:\nDamen und Herren\n\n\nGäste erlaubt:\nja\n\n\nAltersklasse:\nAlle\n\n\nMeldeschluss Internet:\n25.08.2018\, 12:00 Uhr\n\n\nMeldeschluss Club:\n25.08.2018\, 12:00 Uhr\n\n\nKontakt:\ninfo@golf-mainsondheim.de\n\n\nTeilnehmer maximal:\n20\n\n\nGebühren:\nMitglieder EUR 15\,00  Gäste EUR 45\,00
URL:https://golf-mainsondheim.de/event/4-golden-leaf-turnier-offen-zaehlspiel/
LOCATION:Golfclub Schloß Mainsondheim\, Schloßweg 3\, Mainsondheim-Dettelbach\, Bayern\, 97337\, Deutschland
END:VEVENT
BEGIN:VEVENT
DTSTART;TZID=Europe/Berlin:20180829T140000
DTEND;TZID=Europe/Berlin:20180829T190000
DTSTAMP:20260422T154242
CREATED:20190316T153125Z
LAST-MODIFIED:20190316T153125Z
UID:3175-1535551200-1535569200@golf-mainsondheim.de
SUMMARY:5. Herren Turnier\, offen  "M. Mentele und Dr. B.Hanel\, Zahnarzt"
DESCRIPTION:Turnierart:\nEinzel – Stableford; 18 Löcher\n\n\nGolfplatz:\nMainsondheim 1-18 (2016)\n\n\nAnzahl Runden:\n1\n\n\nBeginn:\n14:00\n\n\nVorgabenwirksam:\nja\n\n\nOffen für:\nHerren\n\n\nGäste erlaubt:\nja\n\n\nAltersklasse:\nAlle\n\n\nMeldeschluss Internet:\n28.08.2018\, 12:00 Uhr\n\n\nMeldeschluss Club:\n28.08.2018\, 12:00 Uhr\n\n\nKontakt:\ninfo@golf-mainsondheim.de\n\n\nTeilnehmer maximal:\n50\n\n\nGebühren:\nMitglieder EUR 25\,00 Gäste EUR 45\,00  Jug. Gäste EUR 15\,00 Jug.Mitgl. EUR 10\,00
URL:https://golf-mainsondheim.de/event/5-herren-turnier-offen-m-mentele-und-dr-b-hanel-zahnarzt/
LOCATION:Golfclub Schloß Mainsondheim\, Schloßweg 3\, Mainsondheim-Dettelbach\, Bayern\, 97337\, Deutschland
END:VEVENT
BEGIN:VEVENT
DTSTART;TZID=Europe/Berlin:20180830T110000
DTEND;TZID=Europe/Berlin:20180830T160000
DTSTAMP:20260422T154242
CREATED:20190316T153131Z
LAST-MODIFIED:20190316T153131Z
UID:3174-1535626800-1535644800@golf-mainsondheim.de
SUMMARY:3. JAB Anstoetz Turnier\, offen\, Eklektik
DESCRIPTION:Turnierart:\nEinzel – Stableford; 18 Löcher\n\n\nGolfplatz:\nMainsondheim 1-18 (2016)\n\n\nAnzahl Runden:\n1\n\n\nBeginn:\n11:00\n\n\nVorgabenwirksam:\nja\n\n\nOffen für:\nDamen\n\n\nGäste erlaubt:\nja\n\n\nAltersklasse:\nAlle\n\n\nMeldeschluss Internet:\n29.08.2018\, 12:00 Uhr\n\n\nMeldeschluss Club:\n29.08.2018\, 12:00 Uhr\n\n\nKontakt:\ninfo@golf-mainsondheim.de\n\n\nTeilnehmer maximal:\n50\n\n\nGebühren:\nMitglieder EUR 20\,00  Gäste EUR 40\,00
URL:https://golf-mainsondheim.de/event/3-jab-anstoetz-turnier-offen-eklektik-2/
LOCATION:Golfclub Schloß Mainsondheim\, Schloßweg 3\, Mainsondheim-Dettelbach\, Bayern\, 97337\, Deutschland
END:VEVENT
END:VCALENDAR