BEGIN:VCALENDAR
VERSION:2.0
PRODID:-//Golfclub Schloss Mainsondheim e. V. - ECPv6.0.6.2//NONSGML v1.0//EN
CALSCALE:GREGORIAN
METHOD:PUBLISH
X-WR-CALNAME:Golfclub Schloss Mainsondheim e. V.
X-ORIGINAL-URL:https://golf-mainsondheim.de
X-WR-CALDESC:Veranstaltungen für Golfclub Schloss Mainsondheim e. V.
REFRESH-INTERVAL;VALUE=DURATION:PT1H
X-Robots-Tag:noindex
X-PUBLISHED-TTL:PT1H
BEGIN:VTIMEZONE
TZID:Europe/Berlin
BEGIN:DAYLIGHT
TZOFFSETFROM:+0100
TZOFFSETTO:+0200
TZNAME:CEST
DTSTART:20180325T010000
END:DAYLIGHT
BEGIN:STANDARD
TZOFFSETFROM:+0200
TZOFFSETTO:+0100
TZNAME:CET
DTSTART:20181028T010000
END:STANDARD
END:VTIMEZONE
BEGIN:VEVENT
DTSTART;TZID=Europe/Berlin:20181007T090000
DTEND;TZID=Europe/Berlin:20181007T140000
DTSTAMP:20260422T122420
CREATED:20190316T153124Z
LAST-MODIFIED:20190316T153124Z
UID:3161-1538902800-1538920800@golf-mainsondheim.de
SUMMARY:6. Golden Leaf Turnier\, offen\, Zählspiel  Finale
DESCRIPTION:Turnierart:\nEinzel – Stableford; 18 Löcher\n\n\nGolfplatz:\nMainsondheim 1-18 (2016)\n\n\nAnzahl Runden:\n1\n\n\nBeginn:\n09:00\n\n\nVorgabenwirksam:\nja\n\n\nOffen für:\nDamen und Herren\n\n\nGäste erlaubt:\nja\n\n\nAltersklasse:\nAlle\n\n\nMeldeschluss Internet:\n06.10.2018\, 12:00 Uhr\n\n\nMeldeschluss Club:\n06.10.2018\, 12:00 Uhr\n\n\nKontakt:\ninfo@golf-mainsondheim.de\n\n\nTeilnehmer maximal:\n27\n\n\nGebühren:\nMitglieder EUR 15\,00   Gäste EUR 45\,00
URL:https://golf-mainsondheim.de/event/6-golden-leaf-turnier-offen-zaehlspiel-finale-3/
LOCATION:Golfclub Schloß Mainsondheim\, Schloßweg 3\, Mainsondheim-Dettelbach\, Bayern\, 97337\, Deutschland
END:VEVENT
BEGIN:VEVENT
DTSTART;TZID=Europe/Berlin:20181010T130000
DTEND;TZID=Europe/Berlin:20181010T180000
DTSTAMP:20260422T122420
CREATED:20190316T153107Z
LAST-MODIFIED:20190316T153107Z
UID:3160-1539176400-1539194400@golf-mainsondheim.de
SUMMARY:7. Herren Turnier\, offen  Sponsoren: Brückner-Golenhofen & A. Amling
DESCRIPTION:Turnierart:\nEinzel – Stableford; 18 Löcher\n\n\nGolfplatz:\nMainsondheim 1-18 (2016)\n\n\nAnzahl Runden:\n1\n\n\nBeginn:\n13:00\n\n\nVorgabenwirksam:\nja\n\n\nOffen für:\nHerren\n\n\nGäste erlaubt:\nja\n\n\nAltersklasse:\nAlle\n\n\nMeldeschluss Internet:\n09.10.2018\, 12:00 Uhr\n\n\nMeldeschluss Club:\n09.10.2018\, 12:00 Uhr\n\n\nKontakt:\ninfo@golf-mainsondheim.de\n\n\nTeilnehmer maximal:\n50\n\n\nGebühren:\nMitglieder EUR 25\,00 Gäste EUR 45\,00  Jug. Gäste EUR 15\,00 Jug.Mitgl. EUR 10\,00
URL:https://golf-mainsondheim.de/event/7-herren-turnier-offen-sponsoren-brueckner-golenhofen-a-amling-2/
LOCATION:Golfclub Schloß Mainsondheim\, Schloßweg 3\, Mainsondheim-Dettelbach\, Bayern\, 97337\, Deutschland
END:VEVENT
BEGIN:VEVENT
DTSTART;TZID=Europe/Berlin:20181026T183000
DTEND;TZID=Europe/Berlin:20181026T230000
DTSTAMP:20260422T122420
CREATED:20190316T153128Z
LAST-MODIFIED:20190316T153128Z
UID:3159-1540578600-1540594800@golf-mainsondheim.de
SUMMARY:Halloween Jugend Turnier\, intern
DESCRIPTION:Turnierart:\nKlassischer Vierer – Stableford; 4 Löcher\n\n\nGolfplatz:\nMainsondheim 1-9   2016\n\n\nAnzahl Runden:\n1\n\n\nBeginn:\n18:30\n\n\nVorgabenwirksam:\nnein\n\n\nOffen für:\nDamen und Herren\n\n\nGäste erlaubt:\nnein\n\n\nAltersklasse:\nAlle\n\n\nKontakt:\ninfo@golf-mainsondheim.de\n\n\nTeilnehmer maximal:\n0
URL:https://golf-mainsondheim.de/event/halloween-jugend-turnier-intern-3/
LOCATION:Golfclub Schloß Mainsondheim\, Schloßweg 3\, Mainsondheim-Dettelbach\, Bayern\, 97337\, Deutschland
END:VEVENT
END:VCALENDAR